BEGIN:VCALENDAR
METHOD:PUBLISH
X-WR-TIMEZONE:Europe/Berlin
PRODID:https://www.siwitermine.de
CALSCALE:GREGORIAN
VERSION:2.0
BEGIN:VTIMEZONE
TZID:Europe/Berlin
BEGIN:DAYLIGHT
TZOFFSETFROM:+0100
TZOFFSETTO:+0200
DTSTART:19810329T020000
RRULE:FREQ=YEARLY;BYMONTH=3;BYDAY=-1SU
TZNAME:CEST
END:DAYLIGHT
BEGIN:STANDARD
TZOFFSETFROM:+0200
TZOFFSETTO:+0100
DTSTART:19961027T030000
RRULE:FREQ=YEARLY;BYMONTH=10;BYDAY=-1SU
TZNAME:CET
END:STANDARD
END:VTIMEZONE
BEGIN:VEVENT
LOCATION: Parkplatz der Kinderarztpraxis  | Bahnhofstraße 1 | Bad Berleburg
SUMMARY:14. Intersport Begro Rothaar-Wandermarathon | Erwandere vier Burgen auf 42 Kilometern
DESCRIPTION: Erlebe eine abwechslungsreiche Marathontour in und um Bad Berleburg - 42 km pure Wanderfreude! Bist du bereit für ein Outdoor-Abenteuer im wunderschönen Rothaargebirge? Unsere zweite Marathontour des Jahres führt dich auf historischem Boden und einer aussichtsreichen Strecke rund um Bad Berleburg. Auf 42 Kilometern erlebst du Geschichte und Natur pur - perfekt für alle Wanderbegeisterten! Route und Highlights der Marathontour Wir streifen auf unserer Wanderung durch geschichtsträchtiges Gelände und werden dabei historische Burgen in den Mittelpunkt stellen. Während die eisenzeitlichen Wallburgen in Aue-Wingeshausen und Diedenshausen/Wemlighausen auf der Wanderung gestriffen werden, wird die keltische Wallanlage der Burg Dotzlar komplett erwandert und bietet spannende Einblicke in das Leben der vielleicht ersten Siedler der Region. Eine weitere Burg stellt Schloß Berleburg dar, dessen Ursprung als Höhenburg bis ins 13. Jahrhundert reicht. Verpflegung während der Tour Während der Wanderung ist Rucksackverpflegung angesagt. Eine Verpflegungsstation zur Hälfte der Strecke, an der wir dich mit Wasser und alkoholfreien Getränken versorgen, wird eingerichtet. Sicherheit und Begleitung Wir legen großen Wert auf die Sicherheit und das Gemeinschaftsgefühl während der Tour. Deshalb werden mindestens vier erfahrene Wanderführer - Nadine, Sandra, Nikolai und Frank - die Gruppe auf der gesamten Strecke begleiten. Hier geht es nicht um Schnelligkeit, sondern um das gemeinsame Erlebnis: Der Weg ist das Ziel! Falls du die Tour vorzeitig beenden möchtest, ist an verschiedenen Orten ein Ausstieg möglich. Der Rücktransfer muss allerdings eigenständig organisiert werden. Wichtige Informationen zur Teilnahme Um die Sicherheit aller Teilnehmer zu gewährleisten, bitten wir dich, folgende Punkte zu beachten: Begrenzte Teilnehmerzahl: Die Plätze sind begrenzt. Die Vergabe erfolgt nach der Reihenfolge der Anmeldungen. Selbstverpflegung: Auf der Strecke ist Selbstverpflegung mit Speisen und Getränken erforderlich. Rundkurs: Wir starten und enden am gleichen Ort. Spontane Einkehr: Eine gemeinsame Einkehr nach der Tour ist schwer planbar, wird aber spontan entschieden. Anmeldung: Die Anmeldung erfolgt schriftlich per E-Mail oder über unser Kontaktformular (Link siehe unten). | Info: 0152/01752274 | https://www.siwitermine.de/60636 
UID:siwitermine/60636/2025-10-21-2W  
CLASS:PUBLIC
DTSTART;TZID=Europe/Berlin:20251021T000000Z
DTEND;TZID=Europe/Berlin:20251021T000000Z
DTSTAMP:20250820T083127
END:VEVENT
END:VCALENDAR
