BEGIN:VCALENDAR
METHOD:PUBLISH
X-WR-TIMEZONE:Europe/Berlin
PRODID:https://www.siwitermine.de
CALSCALE:GREGORIAN
VERSION:2.0
BEGIN:VTIMEZONE
TZID:Europe/Berlin
BEGIN:DAYLIGHT
TZOFFSETFROM:+0100
TZOFFSETTO:+0200
DTSTART:19810329T020000
RRULE:FREQ=YEARLY;BYMONTH=3;BYDAY=-1SU
TZNAME:CEST
END:DAYLIGHT
BEGIN:STANDARD
TZOFFSETFROM:+0200
TZOFFSETTO:+0100
DTSTART:19961027T030000
RRULE:FREQ=YEARLY;BYMONTH=10;BYDAY=-1SU
TZNAME:CET
END:STANDARD
END:VTIMEZONE
BEGIN:VEVENT
LOCATION:Heimhof-Theater | Heimhofstr. 7 a | Burbach
SUMMARY:Blutrausch Podcast | Mordsgespräche
DESCRIPTION:Der Podcast von True Crime Nerds für True Crime Nerds geht im Heimhof in die zweite Runde. Im letzten Jahr waren die beiden Podcaster das erste Mal zu Gast im Heimhof-Theater, und schon schnell war klar: Mit diesem True Crime Podcast geht es bei uns weiter. Tauchen Sie gemeinsam mit Fabian & Daniel von "Blutrausch" in die Abgründe der Menschheit ein. Seit vier Jahren berichten die beiden auf Spotify & Co sowie im Radio Siegen über wahre Kriminalfälle weltweit. Und ihre Bekanntheit steigt von Jahr zu Jahr. Im Heimhof-Theater stellen die beiden Podcaster aus dem Siegerland wieder zwei neue Fälle vor, die sie anschließend gemeinsam mit dem Publikum ausführlich diskutieren.  | Info: 02736/5096850 | https://www.siwitermine.de/60038 
UID:siwitermine/60038/2025-10-21-2W  
CLASS:PUBLIC
DTSTART;TZID=Europe/Berlin:20251102T190000
DTEND;TZID=Europe/Berlin:20251102T190000
DTSTAMP:20250709T112950
END:VEVENT
END:VCALENDAR
