BEGIN:VCALENDAR
METHOD:PUBLISH
X-WR-TIMEZONE:Europe/Berlin
PRODID:https://www.siwitermine.de
CALSCALE:GREGORIAN
VERSION:2.0
BEGIN:VTIMEZONE
TZID:Europe/Berlin
BEGIN:DAYLIGHT
TZOFFSETFROM:+0100
TZOFFSETTO:+0200
DTSTART:19810329T020000
RRULE:FREQ=YEARLY;BYMONTH=3;BYDAY=-1SU
TZNAME:CEST
END:DAYLIGHT
BEGIN:STANDARD
TZOFFSETFROM:+0200
TZOFFSETTO:+0100
DTSTART:19961027T030000
RRULE:FREQ=YEARLY;BYMONTH=10;BYDAY=-1SU
TZNAME:CET
END:STANDARD
END:VTIMEZONE
BEGIN:VEVENT
LOCATION:Kulturhaus Lÿz | St.-Johann-Str. 18 | Siegen
SUMMARY:The Desperate Thespians | Patrick Marber: Closer
DESCRIPTION:Aufführung in englischer Sprache! Zufälle führen Schicksale zusammen, wecken Begehren und einen ungewöhnlichen Reigen: Dan rettet Alice. Anna fotografiert Dan. Larry lernt Anna online kennen. Alice rettet Larry. Im London des ausgehenden zwanzigsten Jahrhunderts prallen diese Leben aufeinander und ändern ihre Schicksalspfade in nur einem Augenblick. Fremde werden zu Liebenden und Liebende werden zu Fremden. Closer ist eine zeitlose Parabel über die fließende Dynamik des Begehrens und das Drama zwischenmenschlicher Beziehungen. Bei seiner Uraufführung im Jahr 1997 wurde Closer mit dem Olivier, dem Evening Standard und dem New York Drama Critics` Circle Award ausgezeichnet. Die englischsprachige Theatergruppe Desperate Thespians, zuletzt für den Preis für interkulturelles Engagement in Siegen 2024 nominiert, bringt das Stück von Patrick Marber für drei exklusive Shows auch nach Siegen.  | Info: 0271/333-2448 | https://www.siwitermine.de/58145 
UID:siwitermine/58145/2025-10-21-2W  
CLASS:PUBLIC
DTSTART;TZID=Europe/Berlin:20251022T200000
DTEND;TZID=Europe/Berlin:20251022T200000
DTSTAMP:20250402T112754
END:VEVENT
END:VCALENDAR
