BEGIN:VCALENDAR
METHOD:PUBLISH
X-WR-TIMEZONE:Europe/Berlin
PRODID:https://www.siwitermine.de
CALSCALE:GREGORIAN
VERSION:2.0
BEGIN:VTIMEZONE
TZID:Europe/Berlin
BEGIN:DAYLIGHT
TZOFFSETFROM:+0100
TZOFFSETTO:+0200
DTSTART:19810329T020000
RRULE:FREQ=YEARLY;BYMONTH=3;BYDAY=-1SU
TZNAME:CEST
END:DAYLIGHT
BEGIN:STANDARD
TZOFFSETFROM:+0200
TZOFFSETTO:+0100
DTSTART:19961027T030000
RRULE:FREQ=YEARLY;BYMONTH=10;BYDAY=-1SU
TZNAME:CET
END:STANDARD
END:VTIMEZONE
BEGIN:VEVENT
LOCATION:Kulturhaus Lÿz | St.-Johann-Str. 18 | Siegen
SUMMARY:Filmklub Kurbelkiste | Die leisen und die großen Töne
DESCRIPTION:Tragikomödie, F 2024, 103 Min, FSK 0, Regie: Emmanuel Courcol.  Thibaut ist ein berühmter Dirigent, der die Konzertsäle der ganzen Welt bereist. In der Mitte seines Lebens erfährt er, dass er adoptiert wurde und dass er auch einen jüngeren Bruder hat, Jimmy, der in einer Schulküche arbeitet und Posaune in der Blaskapelle einer Arbeiterstadt spielt. Die beiden Brüder könnten unterschiedlicher nicht sein. Nur in einer Sache sind sie sich einig: ihrer Liebe zur Musik. Thibaut ist beeindruckt vom musikalischen Talent seines Bruders. Er will die Ungerechtigkeit ihres Schicksals begleichen, seinem Bruder die eine Chance geben, die er nie hatte: sein Talent zu entfalten, seinem Herzen zu folgen und mit dem kleinen Orchester einen nationalen Wettbewerb zu gewinnen. Jimmy beginnt, von einem ganz anderen Leben zu träumen...  | Info: 0271/333-2448 | https://www.siwitermine.de/58144 
UID:siwitermine/58144/2025-10-21-2W  
CLASS:PUBLIC
DTSTART;TZID=Europe/Berlin:20251021T190000
DTEND;TZID=Europe/Berlin:20251021T190000
DTSTAMP:20250402T112702
END:VEVENT
END:VCALENDAR
