BEGIN:VCALENDAR
METHOD:PUBLISH
X-WR-TIMEZONE:Europe/Berlin
PRODID:https://www.siwitermine.de
CALSCALE:GREGORIAN
VERSION:2.0
BEGIN:VTIMEZONE
TZID:Europe/Berlin
BEGIN:DAYLIGHT
TZOFFSETFROM:+0100
TZOFFSETTO:+0200
DTSTART:19810329T020000
RRULE:FREQ=YEARLY;BYMONTH=3;BYDAY=-1SU
TZNAME:CEST
END:DAYLIGHT
BEGIN:STANDARD
TZOFFSETFROM:+0200
TZOFFSETTO:+0100
DTSTART:19961027T030000
RRULE:FREQ=YEARLY;BYMONTH=10;BYDAY=-1SU
TZNAME:CET
END:STANDARD
END:VTIMEZONE
BEGIN:VEVENT
LOCATION:Schreinerei Quandel | Krottorfer Str. 45 | Freudenberg
SUMMARY:Figurentheater für Kinder mit Petra Schuff | 
DESCRIPTION:Vom kleinen Maulwurf, der wissen wollte, wer ihm auf den Kopf gemacht hat Frau Dr. Frosch und Assistenzhund Bello auf Spurensuche nach dem Verursacher jenes kleinen Häufchens, das an der falschen Stelle gelandet ist und Auslöser einer Expedition wird. Ein Bilderbuch zu einem Thema, das Kinder sehr interessiert! Ein Klassiker seit über 25 Jahren, Bestseller und in mehr als 30 Sprachen übersetzt von Werner Holzwarth und Wolf Erlbruch. Musik: Ulrich van der Schoor | Info: 02734-3836 | https://www.siwitermine.de/57545 
UID:siwitermine/57545/2025-10-21-2W  
CLASS:PUBLIC
DTSTART;TZID=Europe/Berlin:20251102T160000
DTEND;TZID=Europe/Berlin:20251102T160000
DTSTAMP:20250115T164609
END:VEVENT
END:VCALENDAR
