BEGIN:VCALENDAR
METHOD:PUBLISH
X-WR-TIMEZONE:Europe/Berlin
PRODID:https://www.siwitermine.de
CALSCALE:GREGORIAN
VERSION:2.0
BEGIN:VTIMEZONE
TZID:Europe/Berlin
BEGIN:DAYLIGHT
TZOFFSETFROM:+0100
TZOFFSETTO:+0200
DTSTART:19810329T020000
RRULE:FREQ=YEARLY;BYMONTH=3;BYDAY=-1SU
TZNAME:CEST
END:DAYLIGHT
BEGIN:STANDARD
TZOFFSETFROM:+0200
TZOFFSETTO:+0100
DTSTART:19961027T030000
RRULE:FREQ=YEARLY;BYMONTH=10;BYDAY=-1SU
TZNAME:CET
END:STANDARD
END:VTIMEZONE
BEGIN:VEVENT
LOCATION:Otto-Flick-Halle | Moltkestr. 12 | Kreuztal
SUMMARY:Herbert Knebels Affentheater | Voll Karacho!
DESCRIPTION:Auch nach 37 Jahren geben die alten Herren von Herbert Knebels Affentheater keine Ruhe und stehen noch voll im Saft. Darum gehts mit "VOLL KARACHO!" - so der neue Programmtitel - wieder auf Tour. Nachdem der Trainer beim ausschweifenden Tourleben nicht mehr mithalten konnte und sich in den wohlverdienten Ruhestand verabschiedet hat, warten die alten Haudegen, Herbert Knebel, Ozzy Ostermann und Ernst Pichel, mit einem Programm der internationalen Spitzenklasse auf. Dabei wird das Affentheater-Ensemble unterstützt von drei Musikern der internationalen Spitzenklasse: An den Blasrohren, Tomek und Ludek, und an der Schießbude, "Bumm-Bumm"-Roy aus Remscheid. Leute, da bleibt kein Auge trocken! Ein Programm, gespickt mit heißen Rhythmen und coolen Gags. Das will natürlich jeder sehen, der es noch nicht gesehen hat. Achtung: Jetzt schon nur noch wenige Restkarten! Deshalb: Ab zum nächsten Ticketshop! Und zwar mit "VOLL KARACHO!"  | Info: +49 (0)2732 51-324 | https://www.siwitermine.de/57538 
UID:siwitermine/57538/2025-10-21-2W  
CLASS:PUBLIC
DTSTART;TZID=Europe/Berlin:20251102T180000
DTEND;TZID=Europe/Berlin:20251102T180000
DTSTAMP:20250728T143255
END:VEVENT
END:VCALENDAR
