BEGIN:VCALENDAR
METHOD:PUBLISH
X-WR-TIMEZONE:Europe/Berlin
PRODID:https://www.siwitermine.de
CALSCALE:GREGORIAN
VERSION:2.0
BEGIN:VTIMEZONE
TZID:Europe/Berlin
BEGIN:DAYLIGHT
TZOFFSETFROM:+0100
TZOFFSETTO:+0200
DTSTART:19810329T020000
RRULE:FREQ=YEARLY;BYMONTH=3;BYDAY=-1SU
TZNAME:CEST
END:DAYLIGHT
BEGIN:STANDARD
TZOFFSETFROM:+0200
TZOFFSETTO:+0100
DTSTART:19961027T030000
RRULE:FREQ=YEARLY;BYMONTH=10;BYDAY=-1SU
TZNAME:CET
END:STANDARD
END:VTIMEZONE
BEGIN:VEVENT
LOCATION:Viktoria Filmtheater Hilchenbach-Dahlbruch | Bernhard-Weiss-Platz 6
SUMMARY:Heidi - Die Legende vom Luchs | 
DESCRIPTION: (D 2025, 79 Minuten, ab 0) Die temperamentvolle Heidi lebt bei ihrem Großvater Alm-Öhi in einer Berghütte in den Schweizer Alpen. Eines Tages findet Heidi ein einsames und verletztes Luchs-Baby. Ohne Großvaters Wissen kümmert sich Heidi liebevoll um ihren neuen kleinen Freund. Wenn nur nicht der geldgierige Geschäftsmann Schnaittinger wäre, der in der wunderschönen Berglandschaft ein großes Sägewerk errichten möchte und Fallen für die Luchse aufgestellt hat. Der liebevolle Animationsfilm erzählt eine völlig neue Geschichte, die das Wesen der beliebten Charaktere aufgreift und so den Zauber von Heidi zurück auf die große Leinwand bringt. | Info: 02733 61467 | https://www.siwitermine.de/61335 
UID:siwitermine/61335/2025-10-20-2W  
CLASS:PUBLIC
DTSTART;TZID=Europe/Berlin:20251025T150000
DTEND;TZID=Europe/Berlin:20251025T150000
DTSTAMP:20251021T122952
END:VEVENT
END:VCALENDAR
