BEGIN:VCALENDAR
METHOD:PUBLISH
X-WR-TIMEZONE:Europe/Berlin
PRODID:https://www.siwitermine.de
CALSCALE:GREGORIAN
VERSION:2.0
BEGIN:VTIMEZONE
TZID:Europe/Berlin
BEGIN:DAYLIGHT
TZOFFSETFROM:+0100
TZOFFSETTO:+0200
DTSTART:19810329T020000
RRULE:FREQ=YEARLY;BYMONTH=3;BYDAY=-1SU
TZNAME:CEST
END:DAYLIGHT
BEGIN:STANDARD
TZOFFSETFROM:+0200
TZOFFSETTO:+0100
DTSTART:19961027T030000
RRULE:FREQ=YEARLY;BYMONTH=10;BYDAY=-1SU
TZNAME:CET
END:STANDARD
END:VTIMEZONE
BEGIN:VEVENT
LOCATION:Viktoria Filmtheater Hilchenbach-Dahlbruch | Bernhard-Weiss-Platz 6
SUMMARY:50 Jahre Roland Kaiser - Ein Leben für die Musik | 
DESCRIPTION:(D 2025, 123 Minuten, ab 0) Musiklegende Roland Kaiser feiert dieses Jahr sein Kino-Debüt! Im Rahmen seiner ausverkauften Tournee RK50: 50 Jahre - 50 Hits!-wurde er filmisch begleitet. Die spektakuläre Show wird gemeinsam mit exklusiven Backstage-Einblicken ab dem 21. Oktober 2025 als Film im Kino zu sehen sein. Roland Kaiser schaut gemeinsam mit verschiedenen Wegbegleitern und Wegbegleiterinnen auf die vergangenen 50 Jahre zurück und gibt nie dagewesene Einblicke in sein Leben sowie seinen Touralltag. Seine großen Hits dürfen dabei natürlich nicht fehlen. Roland Kaiser über den Film: "Für mich ist es eine besondere Ehre, dass erstmals eines meiner Konzerte auf der großen Kinoleinwand präsentiert wird." | Info: 02733 61467 | https://www.siwitermine.de/61342 
UID:siwitermine/61342/2025-10-20-1W  
CLASS:PUBLIC
DTSTART;TZID=Europe/Berlin:20251026T173000
DTEND;TZID=Europe/Berlin:20251026T173000
DTSTAMP:20251021T123427
END:VEVENT
END:VCALENDAR
