BEGIN:VCALENDAR
METHOD:PUBLISH
X-WR-TIMEZONE:Europe/Berlin
PRODID:https://www.siwitermine.de
CALSCALE:GREGORIAN
VERSION:2.0
BEGIN:VTIMEZONE
TZID:Europe/Berlin
BEGIN:DAYLIGHT
TZOFFSETFROM:+0100
TZOFFSETTO:+0200
DTSTART:19810329T020000
RRULE:FREQ=YEARLY;BYMONTH=3;BYDAY=-1SU
TZNAME:CEST
END:DAYLIGHT
BEGIN:STANDARD
TZOFFSETFROM:+0200
TZOFFSETTO:+0100
DTSTART:19961027T030000
RRULE:FREQ=YEARLY;BYMONTH=10;BYDAY=-1SU
TZNAME:CET
END:STANDARD
END:VTIMEZONE
BEGIN:VEVENT
LOCATION:Viktoria Filmtheater Hilchenbach-Dahlbruch | Bernhard-Weiss-Platz 6
SUMMARY:Ein kleines Stück vom Kuchen | Kirche & Kino
DESCRIPTION:Seit ihre Tochter mit den Enkelkindern nach Europa ausgewandert ist, lebt die 70-jährige Witwe Mahin (Lili Farhadpour) ganz allein in Teheran. Die strikten Auflagen der Sittenpolizei verwehren ihr die Teilnahme am öffentlichen Leben, weshalb nur noch der Nachmittagstee mit ihren Freundinnen ein wenig Abwechslung in ihr Leben bringt. Um dem trostlosen Alltag zu entkommen, beschließt Mahin sich auf die Suche nach einem Mann zu machen, um der Liebe noch einmal eine Chance zu geben. In einem Restaurant trifft sie auf den alleinstehenden Taxifahrer Faramarz (Esmaeel Mehrabi) und schafft es, ihn zu sich nach Hause einzuladen. Es kommt zu einer magischen Nacht, in der die beiden gegen ziemlich jedes Verbot der Sittenpolizei verstoßen. "Das im tragikomischen Tonfall erzählte Drama feiert eine Rebellion purer Lebenslust, die angesichts der restriktiven Bedingungen umso heller erstrahlt. Ein sehr menschlicher und wunderbar mutiger Film!" (Filmdienst) "Eine der bewegendsten Komödien des Jahres!" | Info: 02733 61467 | https://www.siwitermine.de/61285 
UID:siwitermine/61285/2025-10-20-1W  
CLASS:PUBLIC
DTSTART;TZID=Europe/Berlin:20251022T200000
DTEND;TZID=Europe/Berlin:20251022T200000
DTSTAMP:20251014T105242
END:VEVENT
END:VCALENDAR
