BEGIN:VCALENDAR
METHOD:PUBLISH
X-WR-TIMEZONE:Europe/Berlin
PRODID:https://www.siwitermine.de
CALSCALE:GREGORIAN
VERSION:2.0
BEGIN:VTIMEZONE
TZID:Europe/Berlin
BEGIN:DAYLIGHT
TZOFFSETFROM:+0100
TZOFFSETTO:+0200
DTSTART:19810329T020000
RRULE:FREQ=YEARLY;BYMONTH=3;BYDAY=-1SU
TZNAME:CEST
END:DAYLIGHT
BEGIN:STANDARD
TZOFFSETFROM:+0200
TZOFFSETTO:+0100
DTSTART:19961027T030000
RRULE:FREQ=YEARLY;BYMONTH=10;BYDAY=-1SU
TZNAME:CET
END:STANDARD
END:VTIMEZONE
BEGIN:VEVENT
LOCATION:Viktoria Filmtheater Hilchenbach-Dahlbruch | Bernhard-Weiss-Platz 6
SUMMARY:Lilly und die Kängurus | 
DESCRIPTION:Als der TV-Moderator Chris in der australischen Wildnis ein Känguru-Junges anfährt, findet er Hilfe bei der elfjährigen Lilly. Die beiden schließen Freundschaft und versuchen, weitere Känguru-Babys zu retten. "Ein klassisch schöner Familienfilm mit exotischem Flair."  | Info: 02733 61467 | https://www.siwitermine.de/61279 
UID:siwitermine/61279/2025-10-20-1W  
CLASS:PUBLIC
DTSTART;TZID=Europe/Berlin:20251022T150000
DTEND;TZID=Europe/Berlin:20251022T150000
DTSTAMP:20251014T104556
END:VEVENT
END:VCALENDAR
