BEGIN:VCALENDAR
METHOD:PUBLISH
X-WR-TIMEZONE:Europe/Berlin
PRODID:https://www.siwitermine.de
CALSCALE:GREGORIAN
VERSION:2.0
BEGIN:VTIMEZONE
TZID:Europe/Berlin
BEGIN:DAYLIGHT
TZOFFSETFROM:+0100
TZOFFSETTO:+0200
DTSTART:19810329T020000
RRULE:FREQ=YEARLY;BYMONTH=3;BYDAY=-1SU
TZNAME:CEST
END:DAYLIGHT
BEGIN:STANDARD
TZOFFSETFROM:+0200
TZOFFSETTO:+0100
DTSTART:19961027T030000
RRULE:FREQ=YEARLY;BYMONTH=10;BYDAY=-1SU
TZNAME:CET
END:STANDARD
END:VTIMEZONE
BEGIN:VEVENT
LOCATION:Viktoria Filmtheater Hilchenbach-Dahlbruch | Bernhard-Weiss-Platz 6
SUMMARY:In die Sonne schauen | 
DESCRIPTION:Das Drama erzählt über einen Zeitraum von 100 Jahren hinweg und zwischen den Zeitebenen wechselnd von vier Mädchen bzw. jungen Frauen verschiedener Generationen auf einem Hof in der Altmark. In ruhiger, doch komplexer Erzählweise mit traumhaften Einschüben und immer wieder düster-bedrohlicher Atmosphäre entfaltet sich ein Bild verschiedener Zeiten, die jedoch alle miteinander verbunden sind. "Ein von der Regisseurin Mascha Schilinski grandios wie radikal inszenierter Film, der gleichermaßen verstört wie fasziniert, berührt wie niederschmettert." (Filmstarts) PS. Kein Film für zarte Gemüter.  | Info: 02733 61467 | https://www.siwitermine.de/61271 
UID:siwitermine/61271/2025-10-20-1W  
CLASS:PUBLIC
DTSTART;TZID=Europe/Berlin:20251020T193000
DTEND;TZID=Europe/Berlin:20251020T193000
DTSTAMP:20251014T104224
END:VEVENT
END:VCALENDAR
