BEGIN:VCALENDAR
METHOD:PUBLISH
X-WR-TIMEZONE:Europe/Berlin
PRODID:https://www.siwitermine.de
CALSCALE:GREGORIAN
VERSION:2.0
BEGIN:VTIMEZONE
TZID:Europe/Berlin
BEGIN:DAYLIGHT
TZOFFSETFROM:+0100
TZOFFSETTO:+0200
DTSTART:19810329T020000
RRULE:FREQ=YEARLY;BYMONTH=3;BYDAY=-1SU
TZNAME:CEST
END:DAYLIGHT
BEGIN:STANDARD
TZOFFSETFROM:+0200
TZOFFSETTO:+0100
DTSTART:19961027T030000
RRULE:FREQ=YEARLY;BYMONTH=10;BYDAY=-1SU
TZNAME:CET
END:STANDARD
END:VTIMEZONE
BEGIN:VEVENT
LOCATION:Friedenshort Freudenberg | Friedenshortstr. 46
SUMMARY:Lachwanderung in Freudenberg | Mit Betty Bach
DESCRIPTION:Erlebe eine Wanderung der besonderen Art, die die Sinne belebt und die Seele zum Lachen bringt. Sei dabei, wenn mit Übungen aus dem Lachyoga die Glückshormone aktiviert werden. Ein Vormittag voller Freude, lachen und Entspannung.  | Info: 02734-437 7248 | https://www.siwitermine.de/61252 
UID:siwitermine/61252/2025-10-20-1W  
CLASS:PUBLIC
DTSTART;TZID=Europe/Berlin:20251025T100000
DTEND;TZID=Europe/Berlin:20251025T100000
DTSTAMP:20251013T082628
END:VEVENT
END:VCALENDAR
