BEGIN:VCALENDAR
METHOD:PUBLISH
X-WR-TIMEZONE:Europe/Berlin
PRODID:https://www.siwitermine.de
CALSCALE:GREGORIAN
VERSION:2.0
BEGIN:VTIMEZONE
TZID:Europe/Berlin
BEGIN:DAYLIGHT
TZOFFSETFROM:+0100
TZOFFSETTO:+0200
DTSTART:19810329T020000
RRULE:FREQ=YEARLY;BYMONTH=3;BYDAY=-1SU
TZNAME:CEST
END:DAYLIGHT
BEGIN:STANDARD
TZOFFSETFROM:+0200
TZOFFSETTO:+0100
DTSTART:19961027T030000
RRULE:FREQ=YEARLY;BYMONTH=10;BYDAY=-1SU
TZNAME:CET
END:STANDARD
END:VTIMEZONE
BEGIN:VEVENT
LOCATION:Neue Römergalerie | Nassauische Str.8 | Burbach
SUMMARY:Papier, Leinwand und Farbe | Malerei und Grafik von Susanne Krüger
DESCRIPTION:17.10.2025 bis 09.11.2025 | Mi. + Fr.: 12-17 Uhr / Do.: 08-17 Uhr / Mo. + Sa. + So.: 15-17 Uhr | Susanne Krüger über ihre Einstellung zur Kunst: "Aufgewachsen bin ich in einem Umfeld, in dem die Malerei ein wichtiger Bestandteil des Lebens war. Mein Vater hatte große, klassische Ölgemälde geschaffen, die überall das Haus schmückten und mich sehr geprägt haben. In meinen Bildern habe ich eine eigene Bildsprache entwickelt, in der ich Geschichten erzähle oder Emotionen ausdrücke. Die Malerei nimmt in meinem Leben einen großen Teil in Anspruch und ist mir sehr wichtig. Ein Ausspruch, der auf mich zutrifft ist: "Malen bin ich!" | Info: 02736/4588 | https://www.siwitermine.de/61186 
UID:siwitermine/61186/2025-10-20-1W  
CLASS:PUBLIC
DTSTART;TZID=Europe/Berlin:20251020T000000Z
DTEND;TZID=Europe/Berlin:20251020T000000Z
DTSTAMP:20251009T084510
END:VEVENT
END:VCALENDAR
