BEGIN:VCALENDAR
METHOD:PUBLISH
X-WR-TIMEZONE:Europe/Berlin
PRODID:https://www.siwitermine.de
CALSCALE:GREGORIAN
VERSION:2.0
BEGIN:VTIMEZONE
TZID:Europe/Berlin
BEGIN:DAYLIGHT
TZOFFSETFROM:+0100
TZOFFSETTO:+0200
DTSTART:19810329T020000
RRULE:FREQ=YEARLY;BYMONTH=3;BYDAY=-1SU
TZNAME:CEST
END:DAYLIGHT
BEGIN:STANDARD
TZOFFSETFROM:+0200
TZOFFSETTO:+0100
DTSTART:19961027T030000
RRULE:FREQ=YEARLY;BYMONTH=10;BYDAY=-1SU
TZNAME:CET
END:STANDARD
END:VTIMEZONE
BEGIN:VEVENT
LOCATION:Kapellenschule | HV Littfeld-Burgholdinghsn. e.V. | Kreuztal | Hagener Str. 428
SUMMARY:Alte Fotos von Littfeld und Burgholdinghausen | 
DESCRIPTION:Friedhelm Kroes präsentiert allen Interessierten an diesem Abend eine Auswahl von alten Fotos. Erinnerungen an vergangene Zeiten dürfen an dem Abend gerne mit den Gästen der Veranstaltung geteilt werden. Der Eintritt ist frei! | Info: 0151- 4321 9789 | https://www.siwitermine.de/61180 
UID:siwitermine/61180/2025-10-20-1W  
CLASS:PUBLIC
DTSTART;TZID=Europe/Berlin:20251023T190000
DTEND;TZID=Europe/Berlin:20251023T190000
DTSTAMP:20251009T080019
END:VEVENT
END:VCALENDAR
