BEGIN:VCALENDAR
METHOD:PUBLISH
X-WR-TIMEZONE:Europe/Berlin
PRODID:https://www.siwitermine.de
CALSCALE:GREGORIAN
VERSION:2.0
BEGIN:VTIMEZONE
TZID:Europe/Berlin
BEGIN:DAYLIGHT
TZOFFSETFROM:+0100
TZOFFSETTO:+0200
DTSTART:19810329T020000
RRULE:FREQ=YEARLY;BYMONTH=3;BYDAY=-1SU
TZNAME:CEST
END:DAYLIGHT
BEGIN:STANDARD
TZOFFSETFROM:+0200
TZOFFSETTO:+0100
DTSTART:19961027T030000
RRULE:FREQ=YEARLY;BYMONTH=10;BYDAY=-1SU
TZNAME:CET
END:STANDARD
END:VTIMEZONE
BEGIN:VEVENT
LOCATION:Zur alten Linde Wilnsdorf-Niederdielfen
SUMMARY:itzend - Akustik Duo | Oldies, Rock´n´Roll und mehr...
DESCRIPTION:itzend bringen im Duo 100% handgemachte Musik zum Klingen und sind dabei absolut partytauglich!!! Mit ihren markanten Stimmen, kräftigem Gitarrensound und einem treibenden Cajon spielen sie Oldies und erdige Klassiker der Rock- und Pop Geschichte mit Schwerpunkt der 50er, 60er und 70er Jahre sowie manches mehr ... Mit dabei sein wird auch Christoph Siebel alias HohnerJo, der mit seiner Mundharmonika Akzente setzt und eine Brise Magie in den Abend wehen lässt! Besetzung: Karl-Heinz Dentler - Gesang, akustische Gitarre / Torsten Krebs - Gesang, Cajon Aktuell im Programm sind u.a. Songs von CCR, Rolling Stones, Eric Clapton, Steve Winwood, Chuck Berry, Elvis, Bob Dylan, Rio Reiser, Ben E. King, Drafi D., Jethro Tull, Beatles, Neil Young, Canned Heat, T. Rex ... Motto: "let the good times roll" (Louis Jordan) | Info: 0271 399602 | https://www.siwitermine.de/61127 
UID:siwitermine/61127/2025-10-20-1W  
CLASS:PUBLIC
DTSTART;TZID=Europe/Berlin:20251025T193000
DTEND;TZID=Europe/Berlin:20251025T193000
DTSTAMP:20251001T082556
END:VEVENT
END:VCALENDAR
