BEGIN:VCALENDAR
METHOD:PUBLISH
X-WR-TIMEZONE:Europe/Berlin
PRODID:https://www.siwitermine.de
CALSCALE:GREGORIAN
VERSION:2.0
BEGIN:VTIMEZONE
TZID:Europe/Berlin
BEGIN:DAYLIGHT
TZOFFSETFROM:+0100
TZOFFSETTO:+0200
DTSTART:19810329T020000
RRULE:FREQ=YEARLY;BYMONTH=3;BYDAY=-1SU
TZNAME:CEST
END:DAYLIGHT
BEGIN:STANDARD
TZOFFSETFROM:+0200
TZOFFSETTO:+0100
DTSTART:19961027T030000
RRULE:FREQ=YEARLY;BYMONTH=10;BYDAY=-1SU
TZNAME:CET
END:STANDARD
END:VTIMEZONE
BEGIN:VEVENT
LOCATION:City-Galerie Siegen
SUMMARY:Finissage | Viertes disPLAY-Kunstwerk wird am SVB-Gebäude präsentiert
DESCRIPTION:Zum Abschluss laden alle Projektbeteiligten zur Finissage auf dem obersten Parkdeck der City-Galerie ein. | Im Rahmen des Kunstprojekts disPLAY wurde am Gebäude der Siegener Versorgungsbetriebe (SVB) das fünfte Werk der Reihe vorgestellt: "LOOOPS" von der Siegener Künstlergruppe gruppe 3/55. Ein überdimensionaler, farbiger QR-Code auf einem Banner verweist auf wöchentlich wechselnde Kurzfilme, die unter gruppe3-55.de/looops abrufbar sind. Die Arbeit verbindet analoge und digitale Kunstformen und greift gestalterische Elemente des Gebäudes auf. disPLAY ist ein Gemeinschaftsprojekt von Stadt Siegen, Universität Siegen und den SVB.  | Info: . | https://www.siwitermine.de/60538 
UID:siwitermine/60538/2025-10-20-1W  
CLASS:PUBLIC
DTSTART;TZID=Europe/Berlin:20251022T180000
DTEND;TZID=Europe/Berlin:20251022T180000
DTSTAMP:20250808T085012
END:VEVENT
END:VCALENDAR
