BEGIN:VCALENDAR
METHOD:PUBLISH
X-WR-TIMEZONE:Europe/Berlin
PRODID:https://www.siwitermine.de
CALSCALE:GREGORIAN
VERSION:2.0
BEGIN:VTIMEZONE
TZID:Europe/Berlin
BEGIN:DAYLIGHT
TZOFFSETFROM:+0100
TZOFFSETTO:+0200
DTSTART:19810329T020000
RRULE:FREQ=YEARLY;BYMONTH=3;BYDAY=-1SU
TZNAME:CEST
END:DAYLIGHT
BEGIN:STANDARD
TZOFFSETFROM:+0200
TZOFFSETTO:+0100
DTSTART:19961027T030000
RRULE:FREQ=YEARLY;BYMONTH=10;BYDAY=-1SU
TZNAME:CET
END:STANDARD
END:VTIMEZONE
BEGIN:VEVENT
LOCATION:Volksbank Wittgenstein | Poststr. 30a | Bad Berleburg
SUMMARY:32. Berleburger literaturpflaster - Philippinen | Vernissage: Die Straßenkatzen von Manila
DESCRIPTION:Künstlergespräch mit Archie Oclos: Übermütige Streuner, denen man nachsagt, sie hätten sieben Leben, das sind die Hauptfiguren dieser Geschichte. Sechs Katzen - die Weiße, das Duo, der Pirat, die Prinzessin und Batman -, aus deren Leben uns der philippinische Künstler Archie Oclos erzählt. Katze, Straße und Abenteuer - Drei Worte. Für jede Illustration. Für jede Seite. Begleiten Sie die Vierpföter auf ihren Wegen durch die verwinkelten Gassen rund ums Jeepney-Terminal, zu einer Reifenwerkstatt, einer Garküche, einer Mall und anderen Orten quer durch die Stadt. Wie schauen sie auf die Welt? Was erleben jene, die sich auf der Straße behaupten müssen? Archie Oclos, geb. 1989, ist ein philippinischer Künstler. Nach seinem Studium der Bildenden Kunst machte sich Oclos vor allem als Street Artist und Muralist einen Namen. Seine großformatigen Wandmalereien befassen sich oft mit sozialkritischen Themen, mit Ungerechtigkeit und politischer Korruption. Darüber hinaus schafft Oclos auch Arbeiten für Galerieräume, von Kohlezeichnungen bis zu Gemälden auf Leinwand oder handelsüblichen Reissäcken der National Food Authority. Mit »Die Straßenkatzen von Manila« erzählt er seine Geschichten nun in einem anderen Medium. Sechs Katzen treiben die Handlung voran, und derzeit lebt Oclos mit der gleichen Anzahl von Katzen in Manila. | Info: +49 (0)2751 923232 | https://www.siwitermine.de/60339 
UID:siwitermine/60339/2025-10-20-1W  
CLASS:PUBLIC
DTSTART;TZID=Europe/Berlin:20251021T190000
DTEND;TZID=Europe/Berlin:20251021T190000
DTSTAMP:20250730T095637
END:VEVENT
END:VCALENDAR
