BEGIN:VCALENDAR
METHOD:PUBLISH
X-WR-TIMEZONE:Europe/Berlin
PRODID:https://www.siwitermine.de
CALSCALE:GREGORIAN
VERSION:2.0
BEGIN:VTIMEZONE
TZID:Europe/Berlin
BEGIN:DAYLIGHT
TZOFFSETFROM:+0100
TZOFFSETTO:+0200
DTSTART:19810329T020000
RRULE:FREQ=YEARLY;BYMONTH=3;BYDAY=-1SU
TZNAME:CEST
END:DAYLIGHT
BEGIN:STANDARD
TZOFFSETFROM:+0200
TZOFFSETTO:+0100
DTSTART:19961027T030000
RRULE:FREQ=YEARLY;BYMONTH=10;BYDAY=-1SU
TZNAME:CET
END:STANDARD
END:VTIMEZONE
BEGIN:VEVENT
LOCATION:Haus des Gastes Bad Laasphe | Wilhelmsplatz 3
SUMMARY:16. Mädelsflohmarkt in Bad Laasphe | 
DESCRIPTION:Der beliebte Mädelsflohmarkt geht in die nächste Runde: Bereits zum 16. Mal lädt die TKS ins Haus des Gastes ein. Von Kleidung über Schuhe und Handtaschen bis zu Schmuck und Accessoires, hier können Schnäppchenjägerinnen nach Lust und Laune stöbern. Der Fokus liegt auf Second-Hand-Artikeln, damit ungenutzte Dinge eine zweite Chance bekommen. | Info: 02752/898 | https://www.siwitermine.de/61322 
UID:siwitermine/61322/2025-10-17-2W  
CLASS:PUBLIC
DTSTART;TZID=Europe/Berlin:20251018T170000
DTEND;TZID=Europe/Berlin:20251018T170000
DTSTAMP:20251017T081506
END:VEVENT
END:VCALENDAR
