BEGIN:VCALENDAR
METHOD:PUBLISH
X-WR-TIMEZONE:Europe/Berlin
PRODID:https://www.siwitermine.de
CALSCALE:GREGORIAN
VERSION:2.0
BEGIN:VTIMEZONE
TZID:Europe/Berlin
BEGIN:DAYLIGHT
TZOFFSETFROM:+0100
TZOFFSETTO:+0200
DTSTART:19810329T020000
RRULE:FREQ=YEARLY;BYMONTH=3;BYDAY=-1SU
TZNAME:CEST
END:DAYLIGHT
BEGIN:STANDARD
TZOFFSETFROM:+0200
TZOFFSETTO:+0100
DTSTART:19961027T030000
RRULE:FREQ=YEARLY;BYMONTH=10;BYDAY=-1SU
TZNAME:CET
END:STANDARD
END:VTIMEZONE
BEGIN:VEVENT
LOCATION:Innenstadt Siegen
SUMMARY:Live Music Hopping | 
DESCRIPTION:Beim Live Music Hopping verwandelt sich die Siegener Innenstadt in eine große Konzertbühne. In zahlreichen Bars, Kneipen und Restaurants treten verschiedene Künstler*innen auf und bieten ein vielfältiges Programm von Singer-Songwriter über Pop und Rock bis hin zu Clubbeats. Jede Location schafft ihre eigene Atmosphäre, sodass die Gäste entweder an einem Ort verweilen oder von Auftritt zu Auftritt weiterziehen können. Der Eintritt ist frei, und das Format lädt zum Entdecken, Tanzen und Mitfeiern ein. Alle Informationen zu teilnehmenden Lokalen und Programm sind online verfügbar.  | Info: +49 2174 74740 | https://www.siwitermine.de/60690 
UID:siwitermine/60690/2025-10-17-1W  
CLASS:PUBLIC
DTSTART;TZID=Europe/Berlin:20251018T200000
DTEND;TZID=Europe/Berlin:20251018T200000
DTSTAMP:20250826T100746
END:VEVENT
END:VCALENDAR
