BEGIN:VCALENDAR
METHOD:PUBLISH
X-WR-TIMEZONE:Europe/Berlin
PRODID:https://www.siwitermine.de
CALSCALE:GREGORIAN
VERSION:2.0
BEGIN:VTIMEZONE
TZID:Europe/Berlin
BEGIN:DAYLIGHT
TZOFFSETFROM:+0100
TZOFFSETTO:+0200
DTSTART:19810329T020000
RRULE:FREQ=YEARLY;BYMONTH=3;BYDAY=-1SU
TZNAME:CEST
END:DAYLIGHT
BEGIN:STANDARD
TZOFFSETFROM:+0200
TZOFFSETTO:+0100
DTSTART:19961027T030000
RRULE:FREQ=YEARLY;BYMONTH=10;BYDAY=-1SU
TZNAME:CET
END:STANDARD
END:VTIMEZONE
BEGIN:VEVENT
LOCATION:Galerie Eduard Rangnau | Löhrstraße 28 | Siegen
SUMMARY:Konfrontationen Kontraste | Arbeiten von Johannes Viehmann-Höselbarth und Walter Dzaak
DESCRIPTION:26.09.2025 bis 11.10.2025 | Mi. + Fr.:15 bis 18 Uhr / Sa.: 10 bis 14 Uhr. | In der Galerie Rangnau in Siegen zeigen Johannes Viehmann-Höselbarth und Walter Dzaak ihre zweite gemeinsame Fotoausstellung. Unter dem Titel "Konfrontationen Kontraste" stellen sie Arbeiten vor, die sich mit Begegnungen und Gegensätzen auseinandersetzen. Viehmann-Höselbarth thematisiert in seinen Fotografien Fassaden - sowohl architektonische als auch menschliche - und lädt zu Fragen über Authentizität und Selbstdarstellung ein. Dzaak präsentiert Aufnahmen aus seinem Alltag, vor allem aus Berlin, die durch plötzliche Kontraste zum Nachdenken anregen. Die Ausstellung ist bei freiem Eintritt geöffnet. | Info: . | https://www.siwitermine.de/61000 
UID:siwitermine/61000/2025-10-06-2W  
CLASS:PUBLIC
DTSTART;TZID=Europe/Berlin:20251006T000000Z
DTEND;TZID=Europe/Berlin:20251006T000000Z
DTSTAMP:20250922T090444
END:VEVENT
END:VCALENDAR
