BEGIN:VCALENDAR
METHOD:PUBLISH
X-WR-TIMEZONE:Europe/Berlin
PRODID:https://www.siwitermine.de
CALSCALE:GREGORIAN
VERSION:2.0
BEGIN:VTIMEZONE
TZID:Europe/Berlin
BEGIN:DAYLIGHT
TZOFFSETFROM:+0100
TZOFFSETTO:+0200
DTSTART:19810329T020000
RRULE:FREQ=YEARLY;BYMONTH=3;BYDAY=-1SU
TZNAME:CEST
END:DAYLIGHT
BEGIN:STANDARD
TZOFFSETFROM:+0200
TZOFFSETTO:+0100
DTSTART:19961027T030000
RRULE:FREQ=YEARLY;BYMONTH=10;BYDAY=-1SU
TZNAME:CET
END:STANDARD
END:VTIMEZONE
BEGIN:VEVENT
LOCATION:CineStar Siegen | Sandstr. 31 | Siegen
SUMMARY:Diese Woche im Cinestar Siegen | 
DESCRIPTION:The Smashing Machine / A Big Bold Beautiful Journey / One Battle After Another / Demon Slayer: Kimetsu no yaiba - Infinity Castle / Sie leben! - Best of Cinema / Gabby's Dollhouse: Der Film - Streuselparty Preview / BTS MOVIE WEEKS: 2021 Muster Sowoozoo Remastered / BTS MOVIE WEEKS: 2019 World Tour "Love Yourself: Speak Yourself" London Remastered / Taylor Swift - The Official Release Party of a Showgirl / Bluey im Kino: "Küchenspaß-Kollektion / Avatar: The Way of Water / Momo / Der schlaue Hase Momo - Die große Verfolgung / Die Schule der magischen Tiere 4 / The Negotiator / The Toxic Avenger / Der Tiger / Downton Abbey: Das große Finale / Ganzer halber Bruder / The Long Walk - Todesmarsch / 22 Bahnen / Conjuring 4: Das letzte Kapitel / Tafiti - Ab durch die Wüste / Die Gangster Gang 2 / Lilly und die Kängurus / Was ist Liebe wert - Materialists / Bring Her Back / Das Kanu des Manitu / Jurassic World: Die Wiedergeburt / Drachenzähmen leicht gemacht / Lilo & Stitch | Nicht jeder Film läuft an jedem Tag der Woche. Genaue Anfangszeiten finden Sie auf https://www.cinestar.de/kino-siegen.de  | Info: +49 (0)271 23638406 | https://www.siwitermine.de/61155 
UID:siwitermine/61155/2025-10-03-2W  
CLASS:PUBLIC
DTSTART;TZID=Europe/Berlin:20251003T000000
DTEND;TZID=Europe/Berlin:20251003T000000
DTSTAMP:20251001T090253
END:VEVENT
END:VCALENDAR
