BEGIN:VCALENDAR
METHOD:PUBLISH
X-WR-TIMEZONE:Europe/Berlin
PRODID:https://www.siwitermine.de
CALSCALE:GREGORIAN
VERSION:2.0
BEGIN:VTIMEZONE
TZID:Europe/Berlin
BEGIN:DAYLIGHT
TZOFFSETFROM:+0100
TZOFFSETTO:+0200
DTSTART:19810329T020000
RRULE:FREQ=YEARLY;BYMONTH=3;BYDAY=-1SU
TZNAME:CEST
END:DAYLIGHT
BEGIN:STANDARD
TZOFFSETFROM:+0200
TZOFFSETTO:+0100
DTSTART:19961027T030000
RRULE:FREQ=YEARLY;BYMONTH=10;BYDAY=-1SU
TZNAME:CET
END:STANDARD
END:VTIMEZONE
BEGIN:VEVENT
LOCATION:Viktoria Filmtheater Hilchenbach-Dahlbruch | Bernhard-Weiss-Platz 6
SUMMARY:Die Schule der magischen Tiere 4 | 
DESCRIPTION:Miriam wohnt ein paar Monate bei ihrer Freundin Ida und geht in dieser Zeit gemeinsam mit ihr auf die Wintersteinschule. Sie weiß nichts von der magischen Gemeinschaft. Doch gleich an ihrem ersten Schultag übergibt Mr. Morrison der Klasse zwei neue magische Tiere: Max erhält die Eule Muriel und zu Miriams größten Erstaunen bekommt sie den energiegeladenen Koboldmaki Fitzgeraldo. Durch Zufall findet Ida heraus, dass die Wintersteinschule geschlossen werden soll. In der anstehenden Schulchallenge erkennen Ida und ihre Klasse ihre letzte Chance, die Schule und damit die magische Gemeinschaft zu retten. Die vierte Adaption der gleichnamigen Buchreihe knüpft an die bisherige Erfolgsformel an, passt Themen, Musik und die inszenatorische Rasanz aber an die älter gewordenen Jungdarsteller an. Die bewährte Mixtur aus Fantasy, Abenteuer, Humor und Romantik geht ein weiteres Mal auf.  | Info: 02733 61467 | https://www.siwitermine.de/61136 
UID:siwitermine/61136/2025-10-03-2W  
CLASS:PUBLIC
DTSTART;TZID=Europe/Berlin:20251007T150000
DTEND;TZID=Europe/Berlin:20251007T150000
DTSTAMP:20251001T084340
END:VEVENT
END:VCALENDAR
