BEGIN:VCALENDAR
METHOD:PUBLISH
X-WR-TIMEZONE:Europe/Berlin
PRODID:https://www.siwitermine.de
CALSCALE:GREGORIAN
VERSION:2.0
BEGIN:VTIMEZONE
TZID:Europe/Berlin
BEGIN:DAYLIGHT
TZOFFSETFROM:+0100
TZOFFSETTO:+0200
DTSTART:19810329T020000
RRULE:FREQ=YEARLY;BYMONTH=3;BYDAY=-1SU
TZNAME:CEST
END:DAYLIGHT
BEGIN:STANDARD
TZOFFSETFROM:+0200
TZOFFSETTO:+0100
DTSTART:19961027T030000
RRULE:FREQ=YEARLY;BYMONTH=10;BYDAY=-1SU
TZNAME:CET
END:STANDARD
END:VTIMEZONE
BEGIN:VEVENT
LOCATION:Gebrüder-Busch-Theater | Hilchenbach-Dahlbruch | Bernhard-Weiss-Platz
SUMMARY:Verschoben auf 09.01.2026: bittersweet - Musik als trostspendende Umarmung | Klavier solo - Sophie Pacini
DESCRIPTION:Sophie Pacini, die ihre Tournee weiter in die Elbphilharmonie in Hamburg, die Tonhalle in Zürich sowie den Herkulessaal in München führen wird, spielt die Werke, die ihre in diesem Jahr erschienene CD enthält: kleinere Stücke von Robert Schumann, Johannes Brahms, Fréderic Chopin, Claude Debussy, Franz Schubert und Cécile Chaminade. Inspiriert ist das Programm von den Erfahrungen, die die Künstlerin bei einem ihrer Auftritte in einem Münchner Frauenhaus gemacht hat und sie zutiefst berührt haben: Frauen in psychischen und sozialen Notlagen, aus verschiedensten Weltgegenden und Sprachgemeinschaften und ohne Erfahrung mit klassischer europäischer Musik wurden von der Musik emotional erreicht, und, wie die Pianistin, zu Tränen gerührt. Für Frau Pacini ist diese Erfahrung von Musik als Trostspender, Mutmacher, menschliche Solidarität anmahnendes und hervorrufendes Element ein tragendes Moment ihres Konzertierens -auch in Dahlbruch. | Info: 02733/53350 | https://www.siwitermine.de/61055 
UID:siwitermine/61055/2025-10-03-2W  
CLASS:PUBLIC
DTSTART;TZID=Europe/Berlin:20251010T200000
DTEND;TZID=Europe/Berlin:20251010T200000
DTSTAMP:20250924T082603
END:VEVENT
END:VCALENDAR
