BEGIN:VCALENDAR
METHOD:PUBLISH
X-WR-TIMEZONE:Europe/Berlin
PRODID:https://www.siwitermine.de
CALSCALE:GREGORIAN
VERSION:2.0
BEGIN:VTIMEZONE
TZID:Europe/Berlin
BEGIN:DAYLIGHT
TZOFFSETFROM:+0100
TZOFFSETTO:+0200
DTSTART:19810329T020000
RRULE:FREQ=YEARLY;BYMONTH=3;BYDAY=-1SU
TZNAME:CEST
END:DAYLIGHT
BEGIN:STANDARD
TZOFFSETFROM:+0200
TZOFFSETTO:+0100
DTSTART:19961027T030000
RRULE:FREQ=YEARLY;BYMONTH=10;BYDAY=-1SU
TZNAME:CET
END:STANDARD
END:VTIMEZONE
BEGIN:VEVENT
LOCATION:Jugendzentrum No Limits Hilchenbach-Dahlbruch | Bernhard-Weiß-Platz 4
SUMMARY:Kunstworkshop für Mädchen in den Herbstferien | 
DESCRIPTION:Das Jugendzentrum "No Limits" in Dahlbruch bietet in den Herbstferien einen kostenlosen Kunstworkshop für Mädchen ab elf Jahren an. Inspiriert von den Werken des amerikanischen Pop-Art-Künstlers Andy Warhol, steht das Thema "Vielfalt" im Mittelpunkt. Unter der Leitung von Silke Krah von der Jugendkunstschule Siegen-Wittgenstein und mit Unterstützung von Marie Bahr gestalten die Teilnehmerinnen in Teamarbeit individuelle Portraits mit einer Druckgrafik-Technik. Die Drucke können anschließend farblich gestaltet werden, wodurch jedes Werk einen individuellen Charakter erhält. Die fertigen Portraits werden im Jugendzentrum ausgestellt. | Info: 02733 288-124 | https://www.siwitermine.de/61161 
UID:siwitermine/61161/2025-10-02-2W  
CLASS:PUBLIC
DTSTART;TZID=Europe/Berlin:20251014T153000
DTEND;TZID=Europe/Berlin:20251014T153000
DTSTAMP:20251001T091146
END:VEVENT
END:VCALENDAR
