BEGIN:VCALENDAR
METHOD:PUBLISH
X-WR-TIMEZONE:Europe/Berlin
PRODID:https://www.siwitermine.de
CALSCALE:GREGORIAN
VERSION:2.0
BEGIN:VTIMEZONE
TZID:Europe/Berlin
BEGIN:DAYLIGHT
TZOFFSETFROM:+0100
TZOFFSETTO:+0200
DTSTART:19810329T020000
RRULE:FREQ=YEARLY;BYMONTH=3;BYDAY=-1SU
TZNAME:CEST
END:DAYLIGHT
BEGIN:STANDARD
TZOFFSETFROM:+0200
TZOFFSETTO:+0100
DTSTART:19961027T030000
RRULE:FREQ=YEARLY;BYMONTH=10;BYDAY=-1SU
TZNAME:CET
END:STANDARD
END:VTIMEZONE
BEGIN:VEVENT
LOCATION:Kulturkapelle | Kirchgasse 4 | Langenaubach Haiger
SUMMARY:Stefan Gliwitzki | Die Liedermacher - Reinhard Mey, Hannes Wader & Co.
DESCRIPTION:Es ist an der Zeit, diese Lieder wieder zu hören und zu singen. Wenn sie auch aus einer anderen Zeit stammen, so sind sie doch aktuell - noch immer oder wieder. Die einen erschreckt das, andere freut es. Und manche kennen sie nicht. Viele ihrer Lieder sind mit den Jahren noch besser geworden und aktueller denn je. Andere sind unvergessliche Dokumente ihrer Zeit. Was alle gemeinsam haben, sind Meinung, Klartext und glasklare Botschaften. Stefan Gliwitzki, Sänger und Songwriter der Folk-Band "Tone Fish" und Romanautor (QUITT, OOGE) präsentiert in seinem neuen Soloprogramm deutsche Liedermacher. Genauer gesagt, DIE Liedermacher, die unverzichtbaren. Kein Konzert wie jedes andere. | Info: 02773 / 811-150 | https://www.siwitermine.de/60177 
UID:siwitermine/60177/2025-10-02-2W  
CLASS:PUBLIC
DTSTART;TZID=Europe/Berlin:20251010T200000
DTEND;TZID=Europe/Berlin:20251010T200000
DTSTAMP:20250718T130654
END:VEVENT
END:VCALENDAR
