BEGIN:VCALENDAR
METHOD:PUBLISH
X-WR-TIMEZONE:Europe/Berlin
PRODID:https://www.siwitermine.de
CALSCALE:GREGORIAN
VERSION:2.0
BEGIN:VTIMEZONE
TZID:Europe/Berlin
BEGIN:DAYLIGHT
TZOFFSETFROM:+0100
TZOFFSETTO:+0200
DTSTART:19810329T020000
RRULE:FREQ=YEARLY;BYMONTH=3;BYDAY=-1SU
TZNAME:CEST
END:DAYLIGHT
BEGIN:STANDARD
TZOFFSETFROM:+0200
TZOFFSETTO:+0100
DTSTART:19961027T030000
RRULE:FREQ=YEARLY;BYMONTH=10;BYDAY=-1SU
TZNAME:CET
END:STANDARD
END:VTIMEZONE
BEGIN:VEVENT
LOCATION:Bürgertreff Kapellenschule in Littfeld | Hagener Straße 428 | 57223 Kreuztal
SUMMARY:Bestattungskultur im Wandel der Zeit | 
DESCRIPTION:Informationsveranstaltung mit Otto Henrik Giesler vom Bestattungshaus Giesler. Der Eintritt ist frei. | Info: 0151- 4321 9789 | https://www.siwitermine.de/61051 
UID:siwitermine/61051/2025-09-30-2W  
CLASS:PUBLIC
DTSTART;TZID=Europe/Berlin:20250930T190000
DTEND;TZID=Europe/Berlin:20250930T190000
DTSTAMP:20250923T133543
END:VEVENT
END:VCALENDAR
