BEGIN:VCALENDAR
METHOD:PUBLISH
X-WR-TIMEZONE:Europe/Berlin
PRODID:https://www.siwitermine.de
CALSCALE:GREGORIAN
VERSION:2.0
BEGIN:VTIMEZONE
TZID:Europe/Berlin
BEGIN:DAYLIGHT
TZOFFSETFROM:+0100
TZOFFSETTO:+0200
DTSTART:19810329T020000
RRULE:FREQ=YEARLY;BYMONTH=3;BYDAY=-1SU
TZNAME:CEST
END:DAYLIGHT
BEGIN:STANDARD
TZOFFSETFROM:+0200
TZOFFSETTO:+0100
DTSTART:19961027T030000
RRULE:FREQ=YEARLY;BYMONTH=10;BYDAY=-1SU
TZNAME:CET
END:STANDARD
END:VTIMEZONE
BEGIN:VEVENT
LOCATION:Siegerlandmuseum im Oberen Schloss Siegen | Burgstraße
SUMMARY:3D-Drucker meets Lasercutter: Designe dein Museum der Zukunft | 3D-Werke aus Ferienworkshop zu sehen
DESCRIPTION:13.08.2025 bis 12.10.2025 | 10.00 - 17.00 Uhr | Züge, die durch die Zeit reisen, Museen im Weltall oder Teleportation - all das wird es in Museen im Jahr 2145 geben. Zumindest nach der Vorstellung der 15 Teilnehmenden am Ferienworkshop 3D-Drucker meets Lasercutter: Designe dein Museum der Zukunft, der im Juli an vier Tagen in Kooperation mit dem Fab Lab Siegen im Siegerlandmuseum stattfand. Nach einer Einführung in 3D-Modelling, 3D-Druck und dem Umgang mit dem Lasercutter ließen die 10-16-Jährigen ihrer Fantasie freien Lauf und setzten ihre Vorstellungen davon, wie Museen in 120 Jahren aussehen, in Form von Dioramen um. Ob 3D-Drucker, Lasercutter, Acrylfarbe oder Kleber - alles kam zum Einsatz. Eingebettet in die Jubiläumsausstellung ZeitRäume: Ein Schloss macht Museum schlagen sie damit eine Brücke: vom 120-jährigen Bestehen des Museums hin zu Museen in 120 Jahren. "Die Jubiläumsausstellung um die Zukunftsideen junger Menschen zu erweitern, die mit den Technologien von morgen gestaltet wurden, ist für uns ein wunderbarer Perspektivwechsel", freut sich Museumsdirektorin Dr. Karin Kolb. "Mit dem Fab Lab Siegen haben wir einen großartigen und kompetenten Kooperationspartner für Projekte wie diese an unserer Seite", so Viktoria Pfeifer, Referentin für Bildung, Vermittlung und Kommunikation. "Wir freuen uns sehr über diese sehr gute Zusammenarbeit!"  | Info: +49 (0) 271 230 410 | https://www.siwitermine.de/60600 
UID:siwitermine/60600/2025-09-26  
CLASS:PUBLIC
DTSTART;TZID=Europe/Berlin:20250926T000000Z
DTEND;TZID=Europe/Berlin:20250926T000000Z
DTSTAMP:20250813T095031
END:VEVENT
END:VCALENDAR
