BEGIN:VCALENDAR
METHOD:PUBLISH
X-WR-TIMEZONE:Europe/Berlin
PRODID:https://www.siwitermine.de
CALSCALE:GREGORIAN
VERSION:2.0
BEGIN:VTIMEZONE
TZID:Europe/Berlin
BEGIN:DAYLIGHT
TZOFFSETFROM:+0100
TZOFFSETTO:+0200
DTSTART:19810329T020000
RRULE:FREQ=YEARLY;BYMONTH=3;BYDAY=-1SU
TZNAME:CEST
END:DAYLIGHT
BEGIN:STANDARD
TZOFFSETFROM:+0200
TZOFFSETTO:+0100
DTSTART:19961027T030000
RRULE:FREQ=YEARLY;BYMONTH=10;BYDAY=-1SU
TZNAME:CET
END:STANDARD
END:VTIMEZONE
BEGIN:VEVENT
LOCATION:Kreispolizeibehörde Siegen-Wittgenstein | Weidenauer Straße 231 | Siegen
SUMMARY:Begegnung und Dialog mit der Polizei | Ein Besuch bei Ihrer Polizei Siegen-Wittgenstein!
DESCRIPTION:Die Kreispolizeibehörde Siegen-Wittgenstein lädt Sie zu einem Besuch der Polizeibehörde ein. Kommen Sie vorbei und tauschen Sie sich mit den Menschen hinter der Uniform aus. Lernen Sie Ihre Polizei bei einer Führung durch die Behörde kennen. Wir freuen uns auf Sie! | Info: 0171-4213808 | https://www.siwitermine.de/60853 
UID:siwitermine/60853/2025-09-23  
CLASS:PUBLIC
DTSTART;TZID=Europe/Berlin:20250923T180000
DTEND;TZID=Europe/Berlin:20250923T180000
DTSTAMP:20250909T121644
END:VEVENT
END:VCALENDAR
