BEGIN:VCALENDAR
METHOD:PUBLISH
X-WR-TIMEZONE:Europe/Berlin
PRODID:https://www.siwitermine.de
CALSCALE:GREGORIAN
VERSION:2.0
BEGIN:VTIMEZONE
TZID:Europe/Berlin
BEGIN:DAYLIGHT
TZOFFSETFROM:+0100
TZOFFSETTO:+0200
DTSTART:19810329T020000
RRULE:FREQ=YEARLY;BYMONTH=3;BYDAY=-1SU
TZNAME:CEST
END:DAYLIGHT
BEGIN:STANDARD
TZOFFSETFROM:+0200
TZOFFSETTO:+0100
DTSTART:19961027T030000
RRULE:FREQ=YEARLY;BYMONTH=10;BYDAY=-1SU
TZNAME:CET
END:STANDARD
END:VTIMEZONE
BEGIN:VEVENT
LOCATION:Schaufenster im ehemaligen Karstadt-Gebäude | Kölner Straße 41 | Siegen
SUMMARY:Satellit #1: Magdalena Los - Una piccola offerta | Satellit
DESCRIPTION:28.08.2025 bis 28.09.2025 | ganztätig | Der Kunstverein Siegen eröffnet mit "Satellit" ein neues Schaufenster-Projekt im ehemaligen Karstadt-Gebäude (Kölner Straße 41). Im Fokus stehen künstlerische Positionen zu Stadt, Öffentlichkeit und gesellschaftlichen Strukturen. Den Auftakt macht Magdalena Los mit ihrer multimedialen Arbeit "Una piccola offerta". | Info: . | https://www.siwitermine.de/60714 
UID:siwitermine/60714/2025-09-20-1W  
CLASS:PUBLIC
DTSTART;TZID=Europe/Berlin:20250920T000000Z
DTEND;TZID=Europe/Berlin:20250920T000000Z
DTSTAMP:20250827T105233
END:VEVENT
END:VCALENDAR
