BEGIN:VCALENDAR
METHOD:PUBLISH
X-WR-TIMEZONE:Europe/Berlin
PRODID:https://www.siwitermine.de
CALSCALE:GREGORIAN
VERSION:2.0
BEGIN:VTIMEZONE
TZID:Europe/Berlin
BEGIN:DAYLIGHT
TZOFFSETFROM:+0100
TZOFFSETTO:+0200
DTSTART:19810329T020000
RRULE:FREQ=YEARLY;BYMONTH=3;BYDAY=-1SU
TZNAME:CEST
END:DAYLIGHT
BEGIN:STANDARD
TZOFFSETFROM:+0200
TZOFFSETTO:+0100
DTSTART:19961027T030000
RRULE:FREQ=YEARLY;BYMONTH=10;BYDAY=-1SU
TZNAME:CET
END:STANDARD
END:VTIMEZONE
BEGIN:VEVENT
LOCATION:Stadtbibliothek Kreuztal am Roten Platz
SUMMARY:Elisabeth Mann Borgese und Rachel Carson. Kämpferinnen für den Schutz der Meere und des Wassers | 
DESCRIPTION:Die Ausstellung, kuratiert von Dr. Marlies Obier, beleuchtet das Leben und Wirken der beiden Pionierinnen des Umwelt- und Naturschutzes. Zur Eröffnung am 21. September gibt es um 15 Uhr eine Einführung in die Ausstellung. Um 16 Uhr hält Dr. Marlies Obier den Vortrag "Elisabeth Mann Borgese und Rachel Carson. Die großen Pionierinnen des Umwelt- und Naturschutzes". Elisabeth Mann Borgese (1918-2002), bekannt als jüngste Tochter von Thomas Mann, widmete sich seit 1967 dem Schutz der Meere. Sie initiierte die ersten internationalen Seerechtskonferenzen, um auf die Bedrohung der Meere durch Ausbeutung und Verschmutzung aufmerksam zu machen. Rachel Carson (1907-1964) wurde durch ihr Buch "Der stumme Frühling" bekannt, das 1962 die Folgen menschlicher Eingriffe in die Natur thematisierte. Beide Frauen gelten als Wegbereiterinnen eines ökologischen Denkens. Die Ausstellung kann während der Öffnungszeiten der Stadtbibliothek besucht werden. | Info: 02732 51410424 | https://www.siwitermine.de/61049 
UID:siwitermine/61049/2025-09-19-1W  
CLASS:PUBLIC
DTSTART;TZID=Europe/Berlin:20250921T150000
DTEND;TZID=Europe/Berlin:20250921T150000
DTSTAMP:20250919T100040
END:VEVENT
END:VCALENDAR
