BEGIN:VCALENDAR
METHOD:PUBLISH
X-WR-TIMEZONE:Europe/Berlin
PRODID:https://www.siwitermine.de
CALSCALE:GREGORIAN
VERSION:2.0
BEGIN:VTIMEZONE
TZID:Europe/Berlin
BEGIN:DAYLIGHT
TZOFFSETFROM:+0100
TZOFFSETTO:+0200
DTSTART:19810329T020000
RRULE:FREQ=YEARLY;BYMONTH=3;BYDAY=-1SU
TZNAME:CEST
END:DAYLIGHT
BEGIN:STANDARD
TZOFFSETFROM:+0200
TZOFFSETTO:+0100
DTSTART:19961027T030000
RRULE:FREQ=YEARLY;BYMONTH=10;BYDAY=-1SU
TZNAME:CET
END:STANDARD
END:VTIMEZONE
BEGIN:VEVENT
LOCATION:Viktoria Filmtheater Hilchenbach-Dahlbruch | Bernhard-Weiss-Platz 6
SUMMARY:F1 - Der Film | 
DESCRIPTION:30 Jahre, nachdem ein Unfall seine Karriere in der Formel 1 beendete, erhält der alternde Rennfahrer Sonny Hayes (Brad Pitt) die Chance auf ein Comeback: Sein ehemaliger Teamkollege Ruben Cervantes (Javier Bardem) heuert ihn als Fahrer für sein Team an. Gemeinsam mit dem Nachwuchstalent Joshua Pearce (Damson Idris) stellt sich Sonny Hayes der Herausforderung. Die 300-MIllionen-Dollar teure Produktion von Regisseur Joseph Kosinski ("Top Gun: Maverick") erweist sich als "bombastisches Rennsport-Erlebnis!" (Filmdienst) Ein überraschend spannendes Actiondrama über den Zirkus der Formel 1 | Info: 02733 61467 | https://www.siwitermine.de/61011 
UID:siwitermine/61011/2025-09-19-1W  
CLASS:PUBLIC
DTSTART;TZID=Europe/Berlin:20250920T164500
DTEND;TZID=Europe/Berlin:20250920T164500
DTSTAMP:20250917T081559
END:VEVENT
END:VCALENDAR
