BEGIN:VCALENDAR
METHOD:PUBLISH
X-WR-TIMEZONE:Europe/Berlin
PRODID:https://www.siwitermine.de
CALSCALE:GREGORIAN
VERSION:2.0
BEGIN:VTIMEZONE
TZID:Europe/Berlin
BEGIN:DAYLIGHT
TZOFFSETFROM:+0100
TZOFFSETTO:+0200
DTSTART:19810329T020000
RRULE:FREQ=YEARLY;BYMONTH=3;BYDAY=-1SU
TZNAME:CEST
END:DAYLIGHT
BEGIN:STANDARD
TZOFFSETFROM:+0200
TZOFFSETTO:+0100
DTSTART:19961027T030000
RRULE:FREQ=YEARLY;BYMONTH=10;BYDAY=-1SU
TZNAME:CET
END:STANDARD
END:VTIMEZONE
BEGIN:VEVENT
LOCATION:Spiegelzelt | Unteres Schloss 3 | Siegen
SUMMARY:Lazy Sunday Brunch mit Thimo-Niesterok-Trio | 
DESCRIPTION:Was gibt es Schöneres, als den Tag mit Musik, gutem Essen und entspannter Atmosphäre zu beginnen? Beim Lazy-Sunday-Brunch verbinden wir kulinarischen Genuss mit musikalischer Finesse, trifft feine Küche auf feinfühlige Musik gespielt vom Thimo-Niesterok-Trio. Im nostalgischen Ambiente des historischen Spiegelzelts wird der Brunch so zum sinnlichen Gesamterlebnis. Der junge Jazz-Trompeter Thimo Niesterok interpretiert mit feinem Gespür für Klang und Stil, charmant, virtuos und mit einem Hauch Nostalgie die Musik der goldenen Swing-Ära. Inspiriert von Größen wie Louis Armstrong und Bix Beiderbecke bringt Niesterok gemeinsam mit Stefan Rey (Bass) und Rolf Marx (Gitarre) die Eleganz und Leichtigkeit des traditionellen Jazz auf die Bühne - akustisch, authentisch und voller Spielfreude. Begleitet von einem liebevoll angerichteten Brunchbuffet und frisch gebrühtem Kaffee erleben die Gäste einen musikalischen Vormittag voller Charme und Genuss. Zwischen zartem Trompetensolo, beschwingtem Kontrabass und rhythmischem Klavier entsteht ein sonntäglicher Zauber, der weit über das Frühstück hinauswirkt - stimmungsvoll, entspannt und unvergesslich. | Info: 0271 404 1529 | https://www.siwitermine.de/60117 
UID:siwitermine/60117/2025-09-19-1W  
CLASS:PUBLIC
DTSTART;TZID=Europe/Berlin:20250921T110000
DTEND;TZID=Europe/Berlin:20250921T110000
DTSTAMP:20250717T144233
END:VEVENT
END:VCALENDAR
