BEGIN:VCALENDAR
METHOD:PUBLISH
X-WR-TIMEZONE:Europe/Berlin
PRODID:https://www.siwitermine.de
CALSCALE:GREGORIAN
VERSION:2.0
BEGIN:VTIMEZONE
TZID:Europe/Berlin
BEGIN:DAYLIGHT
TZOFFSETFROM:+0100
TZOFFSETTO:+0200
DTSTART:19810329T020000
RRULE:FREQ=YEARLY;BYMONTH=3;BYDAY=-1SU
TZNAME:CEST
END:DAYLIGHT
BEGIN:STANDARD
TZOFFSETFROM:+0200
TZOFFSETTO:+0100
DTSTART:19961027T030000
RRULE:FREQ=YEARLY;BYMONTH=10;BYDAY=-1SU
TZNAME:CET
END:STANDARD
END:VTIMEZONE
BEGIN:VEVENT
LOCATION:Viktoria Filmtheater Hilchenbach-Dahlbruch | Bernhard-Weiss-Platz 6
SUMMARY:Die Barbaren - Willkommen in der Bretagne | 
DESCRIPTION:Die bretonische Gemeinde Paimpont hat, angeregt durch die Lehrerin Joëlle (Julie Delpy) beschlossen, eine ukrainische Flüchtlingsfamilie aufzunehmen. Als stattdessen jedoch die Familie Fayad ankommt, die vor dem Krieg in Syrien geflohen ist, machen schnell Vorurteile und Ressentiments die Runde. Regisseurin Julie Dely schuf eine "ziemlich gewitzte und hintergründige Geschichte um eine Dorfgemeinschaft und die situationsbedingte Auseinandersetzung mit Humanismus und Toleranz." | Info: 02733 61467 | https://www.siwitermine.de/61077 
UID:siwitermine/61077/2025-09-18-2W  
CLASS:PUBLIC
DTSTART;TZID=Europe/Berlin:20251001T200000
DTEND;TZID=Europe/Berlin:20251001T200000
DTSTAMP:20250924T085347
END:VEVENT
END:VCALENDAR
