BEGIN:VCALENDAR
METHOD:PUBLISH
X-WR-TIMEZONE:Europe/Berlin
PRODID:https://www.siwitermine.de
CALSCALE:GREGORIAN
VERSION:2.0
BEGIN:VTIMEZONE
TZID:Europe/Berlin
BEGIN:DAYLIGHT
TZOFFSETFROM:+0100
TZOFFSETTO:+0200
DTSTART:19810329T020000
RRULE:FREQ=YEARLY;BYMONTH=3;BYDAY=-1SU
TZNAME:CEST
END:DAYLIGHT
BEGIN:STANDARD
TZOFFSETFROM:+0200
TZOFFSETTO:+0100
DTSTART:19961027T030000
RRULE:FREQ=YEARLY;BYMONTH=10;BYDAY=-1SU
TZNAME:CET
END:STANDARD
END:VTIMEZONE
BEGIN:VEVENT
LOCATION:Spiegelzelt | Unteres Schloss 3 | Siegen
SUMMARY:Jasmin Tabatabai & David Klein Quartett | Jagd auf Rehe
DESCRIPTION:Sie ist eine der großen deutschen Fernseh- und Kinostars und durch Rollen in der ZDF-Serie "Letzte Spur Berlin", "Asbest" in der ARD oder als Staatsanwältin im RBB- Tatort einem Millionenpublikum bekannt. Doch auch als Sängerin weiß Jasmin Tabatabai zu begeistern - Vielfalt ist bei ihr das Zauberwort. Gemeinsam mit ihrem musikalischen Partner, dem Schweizer Musiker, Komponist und Produzent David Klein, gibt sie sich dieser Prämisse hin. Keine stilistische Grenze, die nicht gesprengt, kein Genre, das nicht erforscht wird. Mit meditativen Versionen klassischer Stücke, radikalen Neudeutungen und souligen Interpretationen bis zu eigenen Kompositionen und dem auf Persisch gesungenen Titeltrack "Shekare Ahoo" zeigt sich die fragile Intimität, der launische Schalk und die exorbitante Spielfreude von Jasmin Tabatabai. Auf Händen getragen, aber auch mit gnadenlosen Grooves angefeuert wird sie von Pianist Olaf Polziehn, Bassist Stefan Rey und Drummer Jean Paul Höchstädter und von Saxophonist Klein mit expressiven Soli umschmeichelt. Jasmin Tabatabais rauchiges Timbre kommt so voll zur Geltung und die eigenwillige Begleitung des David Klein Quartetts verleiht ihren vielschichtigen Interpretationen eine zusätzlich herbe Note. | Info: 0271 404 1529 | https://www.siwitermine.de/60116 
UID:siwitermine/60116/2025-09-18-2W  
CLASS:PUBLIC
DTSTART;TZID=Europe/Berlin:20250920T200000
DTEND;TZID=Europe/Berlin:20250920T200000
DTSTAMP:20250717T144107
END:VEVENT
END:VCALENDAR
