BEGIN:VCALENDAR
METHOD:PUBLISH
X-WR-TIMEZONE:Europe/Berlin
PRODID:https://www.siwitermine.de
CALSCALE:GREGORIAN
VERSION:2.0
BEGIN:VTIMEZONE
TZID:Europe/Berlin
BEGIN:DAYLIGHT
TZOFFSETFROM:+0100
TZOFFSETTO:+0200
DTSTART:19810329T020000
RRULE:FREQ=YEARLY;BYMONTH=3;BYDAY=-1SU
TZNAME:CEST
END:DAYLIGHT
BEGIN:STANDARD
TZOFFSETFROM:+0200
TZOFFSETTO:+0100
DTSTART:19961027T030000
RRULE:FREQ=YEARLY;BYMONTH=10;BYDAY=-1SU
TZNAME:CET
END:STANDARD
END:VTIMEZONE
BEGIN:VEVENT
LOCATION:MGKSiegen | Unteres Schloss 1 | 57072 Siegen
SUMMARY:Kinderatelier am Samstag | Für Kinder im Grundschulalter
DESCRIPTION:Auf spielerische Weise werden die Kunstwerke im Museum erkundet, danach geht es ins Atelier, um selbst kreativ zu werden. Die Kinder werden von Künstler*innen und Museumspädagog*innen altersgerecht angeleitet. Für Kinder von 6 bis 10 Jahren Mit Anmeldung unter +49 271 40577 10  2,50 | Info: 0271 405 77 10 | https://www.siwitermine.de/61026 
UID:siwitermine/61026/2025-09-17-2W  
CLASS:PUBLIC
DTSTART;TZID=Europe/Berlin:20250927T110000
DTEND;TZID=Europe/Berlin:20250927T110000
DTSTAMP:20250917T103030
END:VEVENT
END:VCALENDAR
