BEGIN:VCALENDAR
METHOD:PUBLISH
X-WR-TIMEZONE:Europe/Berlin
PRODID:https://www.siwitermine.de
CALSCALE:GREGORIAN
VERSION:2.0
BEGIN:VTIMEZONE
TZID:Europe/Berlin
BEGIN:DAYLIGHT
TZOFFSETFROM:+0100
TZOFFSETTO:+0200
DTSTART:19810329T020000
RRULE:FREQ=YEARLY;BYMONTH=3;BYDAY=-1SU
TZNAME:CEST
END:DAYLIGHT
BEGIN:STANDARD
TZOFFSETFROM:+0200
TZOFFSETTO:+0100
DTSTART:19961027T030000
RRULE:FREQ=YEARLY;BYMONTH=10;BYDAY=-1SU
TZNAME:CET
END:STANDARD
END:VTIMEZONE
BEGIN:VEVENT
LOCATION:Online
SUMMARY:Online-Dialog Europa 2030 - Eine sozialdemokratische Perspektive | mit Katarina Barley und Julian Plottka
DESCRIPTION:Der Arbeitskreis Europa der SPD Siegen-Wittgenstein lädt herzlich zum nächsten Online-Dialog mit hochklassigen Gästen ein. Am 15. Juli werden ab 18:30 Uhr Katarina Barley (Vizepräsidentin des EU-Parlaments) und Julian Plottka (Institut für Europäische Politik, Berlin) unter dem Titel "Europa 2030" zugeschaltet sein, um über eine sozialdemokratische Vision für Europa zu sprechen. Moderiert wird die Online-Veranstaltung von Steffen Löhr. Die Teilnahme ist kostenlos, Anmeldung unter Kontakt@nikolai-edinger.de oder steffen-loehr@gmx.de | Info: Kontakt@nikolai-edinger.de | https://www.siwitermine.de/60005 
UID:siwitermine/60005/2025-07-05-2W  
CLASS:PUBLIC
DTSTART;TZID=Europe/Berlin:20250715T183000
DTEND;TZID=Europe/Berlin:20250715T183000
DTSTAMP:20250704T112642
END:VEVENT
END:VCALENDAR
