BEGIN:VCALENDAR
METHOD:PUBLISH
X-WR-TIMEZONE:Europe/Berlin
PRODID:https://www.siwitermine.de
CALSCALE:GREGORIAN
VERSION:2.0
BEGIN:VTIMEZONE
TZID:Europe/Berlin
BEGIN:DAYLIGHT
TZOFFSETFROM:+0100
TZOFFSETTO:+0200
DTSTART:19810329T020000
RRULE:FREQ=YEARLY;BYMONTH=3;BYDAY=-1SU
TZNAME:CEST
END:DAYLIGHT
BEGIN:STANDARD
TZOFFSETFROM:+0200
TZOFFSETTO:+0100
DTSTART:19961027T030000
RRULE:FREQ=YEARLY;BYMONTH=10;BYDAY=-1SU
TZNAME:CET
END:STANDARD
END:VTIMEZONE
BEGIN:VEVENT
LOCATION:Universität Siegen | Campus Unteres Schloss | US - S 002 | Obergraben 25 | Siegen
SUMMARY:Wissenschaft um 12 | Die rückständige Großmacht. Russland und der Westen
DESCRIPTION:Prof. Dr. Manfred Hildermeier (Universität Göttingen): Seit Peter dem Großen und seiner erzwungenen Verwestlichung Russlands zieht sich ein zutiefst ambivalentes Verhältnis zum Westen durch die russische Geschichte: der Westen als Vorbild und der Westen als Feindbild. Der renommierte Russlandhistoriker Manfred Hildermeier erzählt in seinem Buch die lange Geschichte dieser schwierigen Beziehung. | Info: 02717402513 | https://www.siwitermine.de/59619 
UID:siwitermine/59619/2025-07-05-2W  
CLASS:PUBLIC
DTSTART;TZID=Europe/Berlin:20250705T120000
DTEND;TZID=Europe/Berlin:20250705T120000
DTSTAMP:20250521T104744
END:VEVENT
END:VCALENDAR
