BEGIN:VCALENDAR
METHOD:PUBLISH
X-WR-TIMEZONE:Europe/Berlin
PRODID:https://www.siwitermine.de
CALSCALE:GREGORIAN
VERSION:2.0
BEGIN:VTIMEZONE
TZID:Europe/Berlin
BEGIN:DAYLIGHT
TZOFFSETFROM:+0100
TZOFFSETTO:+0200
DTSTART:19810329T020000
RRULE:FREQ=YEARLY;BYMONTH=3;BYDAY=-1SU
TZNAME:CEST
END:DAYLIGHT
BEGIN:STANDARD
TZOFFSETFROM:+0200
TZOFFSETTO:+0100
DTSTART:19961027T030000
RRULE:FREQ=YEARLY;BYMONTH=10;BYDAY=-1SU
TZNAME:CET
END:STANDARD
END:VTIMEZONE
BEGIN:VEVENT
LOCATION:Eierecke | Rothenbachstraße | 57290 Neunkirchen
SUMMARY:Waldmomente | Die Natur als Galerie: Großformatige Fotografien im Wald
DESCRIPTION:01.06.2025 bis 30.09.2025 | ganztägig | Nach dem großen Erfolg im vergangenen Jahr und der begeisterten Resonanz aus der Bevölkerung geht die beliebte Outdoor-Fotoausstellung "Waldmomente" in die zweite Runde. In diesem Sommer präsentiert der Heimatverein Zeppenfeld in Zusammenarbeit mit den beiden Hobby-Naturfotografinnen Lisa Bäcker und Christina Weyl erneut ihre eindrucksvollen Naturaufnahmen - diesmal auf einer neuen Route auf der Südseite Zeppenfelds. Die Ausstellung wurde in diesem Jahr erweitert: 28 großformatige Tier- und Landschaftsaufnahmen sind entlang des ca. 2,3 Kilometer langen Rundwegs zu entdecken. Der Startpunkt liegt an der sogenannten Eierecke, wo sich auch Parkmöglichkeiten befinden. | Info: - | https://www.siwitermine.de/59705 
UID:siwitermine/59705/2025-07-04-2W  
CLASS:PUBLIC
DTSTART;TZID=Europe/Berlin:20250704T000000Z
DTEND;TZID=Europe/Berlin:20250704T000000Z
DTSTAMP:20250530T123059
END:VEVENT
END:VCALENDAR
