BEGIN:VCALENDAR
METHOD:PUBLISH
X-WR-TIMEZONE:Europe/Berlin
PRODID:https://www.siwitermine.de
CALSCALE:GREGORIAN
VERSION:2.0
BEGIN:VTIMEZONE
TZID:Europe/Berlin
BEGIN:DAYLIGHT
TZOFFSETFROM:+0100
TZOFFSETTO:+0200
DTSTART:19810329T020000
RRULE:FREQ=YEARLY;BYMONTH=3;BYDAY=-1SU
TZNAME:CEST
END:DAYLIGHT
BEGIN:STANDARD
TZOFFSETFROM:+0200
TZOFFSETTO:+0100
DTSTART:19961027T030000
RRULE:FREQ=YEARLY;BYMONTH=10;BYDAY=-1SU
TZNAME:CET
END:STANDARD
END:VTIMEZONE
BEGIN:VEVENT
LOCATION:Städtische Galerie Haus Seel | Kornmarkt 20 | Siegen
SUMMARY:Kunstverein Siegen: Peles Duo | 
DESCRIPTION:20.05.2025 bis 22.06.2025 | Di. - Sa.: 14.00 - 18.00 Uhr | So. & feiertags 11.00 - 13.00 Uhr + 14.00 - 18.00 Uhr | Das in Berlin lebende Künstlerduo Peles Duo (Barbara Wolff, *1980; Katarina Stöver, *1982) bezieht sich programmatisch auf das rumänische Schloss Peles, in dessen historistischem Interieur ein chaotisches Nebeneinander von Möbelkopien und Raumgestaltungen verschiedener Stilepochen herrscht. Die beiden Künstlerinnen greifen dieses Prinzip auf und übertragen es im schroffen Umgang mit Räumen und Materialien in die Gegenwart. Die Ausstellung "hâéshârÌ¥" ist im Erdgeschoss der Galerie bis einschließlich 01.06. zu sehen. Der Teil der Ausstellung, der sich um Untergeschoss der Galerie befindet, ist bis 22.06. zu sehen. | Info: 0271/21624 | https://www.siwitermine.de/59630 
UID:siwitermine/59630/2025-05-20-1W  
CLASS:PUBLIC
DTSTART;TZID=Europe/Berlin:20250520T000000Z
DTEND;TZID=Europe/Berlin:20250520T000000Z
DTSTAMP:20250521T112703
END:VEVENT
END:VCALENDAR
