BEGIN:VCALENDAR
METHOD:PUBLISH
X-WR-TIMEZONE:Europe/Berlin
PRODID:https://www.siwitermine.de
CALSCALE:GREGORIAN
VERSION:2.0
BEGIN:VTIMEZONE
TZID:Europe/Berlin
BEGIN:DAYLIGHT
TZOFFSETFROM:+0100
TZOFFSETTO:+0200
DTSTART:19810329T020000
RRULE:FREQ=YEARLY;BYMONTH=3;BYDAY=-1SU
TZNAME:CEST
END:DAYLIGHT
BEGIN:STANDARD
TZOFFSETFROM:+0200
TZOFFSETTO:+0100
DTSTART:19961027T030000
RRULE:FREQ=YEARLY;BYMONTH=10;BYDAY=-1SU
TZNAME:CET
END:STANDARD
END:VTIMEZONE
BEGIN:VEVENT
LOCATION:Art Galerie | Fürst-Johann-Moritz-Str. 1 | Siegen
SUMMARY:Ed Heck | Krone auf, Dino los - Pop-Art regiert Siegen
DESCRIPTION:06.04.2025 bis 14.06.2025 | Di. - Fr. 10.00 - 18.00 Uhr, Sa. 10.00 - 16.00 Uhr | Die Art Galerie Siegen präsentiert mit großer Freude die neueste Ausstellung des weltbekannten New Yorker Künstlers Ed Heck. Vom 6. April bis 14. Juni wird seine unverwechselbare Neo-Pop-Art in Siegen zu sehen sein. Titelbild der Ausstellung ist ein majestätischer Dinosaurier mit Krone und dem Schriftzug "It's good to be King - eine charmante Anspielung auf das Siegener Krönchen sowie die letztjährige Ausstellung zum 800-jährigen Jubiläum der Stadt mit einem Krönchen von SAXA. Die kindlich verspielten, farbenfrohen Werke von Ed Heck ziehen mit ihrem einzigartigen Humor und ihrer schlichten, klaren Formsprache Menschen jeden Alters in ihren Bann. Ob Dinosaurier, Hunde oder andere Kreaturen - Hecks Motive erwecken stets kleine Geschichten zum Leben, die direkt aus den Straßen New Yorks zu kommen scheinen. Seine Kunst ist voller Leichtigkeit und Lebensfreude und macht Siegen für kurze Zeit zum Zentrum der amerikanischen Neo-Pop-Art. Ed Heck wurde in Brooklyn, New York, geboren und begann seine Karriere als Illustrator für das American Museum of Natural History, wo er unter anderem prähistorische Lebewesen wie Dinosaurier zeichnete. Seit seiner ersten Ausstellung 1999 hat er weltweit zahlreiche Fans gewonnen und seine Werke werden in renommierten Galerien auf der ganzen Welt gezeigt. Neben seiner Malerei ist Ed Heck als Illustrator und Autor von Kinderbüchern bekannt. Die Ausstellung "Ed Heck: Krone auf, Dino los - Pop-Art regiert Siegen" ist ein Muss für Kunstliebhaber und Fans der humorvollen Neo-Pop-Art. Tauchen Sie ein in die faszinierende Welt von Ed Heck.  | Info: 0271/339603 | https://www.siwitermine.de/58170 
UID:siwitermine/58170/2025-04-28  
CLASS:PUBLIC
DTSTART;TZID=Europe/Berlin:20250428T000000Z
DTEND;TZID=Europe/Berlin:20250428T000000Z
DTSTAMP:20250404T143556
END:VEVENT
END:VCALENDAR
