BEGIN:VCALENDAR
METHOD:PUBLISH
X-WR-TIMEZONE:Europe/Berlin
PRODID:https://www.siwitermine.de
CALSCALE:GREGORIAN
VERSION:2.0
BEGIN:VTIMEZONE
TZID:Europe/Berlin
BEGIN:DAYLIGHT
TZOFFSETFROM:+0100
TZOFFSETTO:+0200
DTSTART:19810329T020000
RRULE:FREQ=YEARLY;BYMONTH=3;BYDAY=-1SU
TZNAME:CEST
END:DAYLIGHT
BEGIN:STANDARD
TZOFFSETFROM:+0200
TZOFFSETTO:+0100
DTSTART:19961027T030000
RRULE:FREQ=YEARLY;BYMONTH=10;BYDAY=-1SU
TZNAME:CET
END:STANDARD
END:VTIMEZONE
BEGIN:VEVENT
LOCATION:Städtische Galerie Haus Seel | Kornmarkt 20 | Siegen
SUMMARY:Ausstellung h1ésh2r des Künstlerinnenduos Peles Duo | 
DESCRIPTION:12.04.2025 bis 22.06.2025 | 19:00 | Das Künstlerinnenduo Peles Duo (ehemals Peles Empire), bestehend aus Barbara Wolff und Katharina Stöver, bezieht sein Material und seinen Namen vom rumänischen Königsschloss Peles aus dem Jahr 1883, in dessen Innerem ein hierarchieloses Nebeneinander von Möbelkopien und Raumgestaltungen diverser Stilepochen herrscht. Die beiden Künstlerinnen greifen dieses historisierende Interieur auf und machen ein postmodernes Verfahren der Reproduktion, des Sampling und des Zitierens zur Grundlage ihrer künstlerischen Praxis. Sie kombinieren verschiedene Zeiten und Räume mit unterschiedlichen Medien und verwischen dabei gezielt die Grenzen zwischen Original und Kopie, historisch und zeitgenössisch, elegant und anspruchslos sowie zwei- und dreidimensional. Durch das Vorantreiben dieses Abstrahierungsprozesses wird das "Original" immer weiter in Frage gestellt. Die Ausstellung h1ésh2r setzt sich mit hybriden Räumen und den Themen Verwandlung und Vergänglichkeit auseinander. Der Titel verweist auf das proto-indoeuropäische Wort für "Blut", das Leben und Opfergaben sowie die Verbindung zwischen Körper, Erde und Metall symbolisiert - zentrale Motive, die sich durch Mythologie, Materialität und die künstlerische Praxis von Peles Duo ziehen. Die Ausstellung kreist um Metamorphose, Entgrenzung und Rhizome, Begriffe, die Gilles Deleuze als "unbegrenzte Endlichkeit" beschreibt. Bezugspunkte sind unter anderem die mythologische Figur der Kybele, Rituale der Verwandlung und Vergrabung sowie der Granatapfel als Symbol für Übergang und Dualität. Künstlerische Reflexionen über Körper und Spuren erweitern den Diskurs um Materialität, Reproduktion und Hybridität und schaffen ein Spannungsverhältnis zwischen Vergangenheit und Gegenwart - Aspekte, die sich in der gesamten Ausstellung widerspiegeln. Begrüßung durch den Bürgermeister und Einführung durch Jennifer Cierlitza. | Info: 0271/21624 | https://www.siwitermine.de/57987 
UID:siwitermine/57987/2025-04-28  
CLASS:PUBLIC
DTSTART;TZID=Europe/Berlin:20250428T000000Z
DTEND;TZID=Europe/Berlin:20250428T000000Z
DTSTAMP:20250325T110749
END:VEVENT
END:VCALENDAR
