BEGIN:VCALENDAR
METHOD:PUBLISH
X-WR-TIMEZONE:Europe/Berlin
PRODID:https://www.siwitermine.de
CALSCALE:GREGORIAN
VERSION:2.0
BEGIN:VTIMEZONE
TZID:Europe/Berlin
BEGIN:DAYLIGHT
TZOFFSETFROM:+0100
TZOFFSETTO:+0200
DTSTART:19810329T020000
RRULE:FREQ=YEARLY;BYMONTH=3;BYDAY=-1SU
TZNAME:CEST
END:DAYLIGHT
BEGIN:STANDARD
TZOFFSETFROM:+0200
TZOFFSETTO:+0100
DTSTART:19961027T030000
RRULE:FREQ=YEARLY;BYMONTH=10;BYDAY=-1SU
TZNAME:CET
END:STANDARD
END:VTIMEZONE
BEGIN:VEVENT
LOCATION:Kunstraum Gymnasium Wilnsdorf | Hoheroth 94
SUMMARY:Frühling, Sommer, Herbst und Winter | Familienworkshops mit Papa, Mama, Oma, Opa oder Tante..
DESCRIPTION:Wir gestalten ein vierteiliges Bild mit den Farben und Stimmungen der Jahreszeiten. | Kosten: 35.- pro Duo | Für Kinder von 3-7 Jahren in Begleitung eines Erwachsenen Gemeinsam gestalten Kind und Erwachsener ein Kunstwerk. Dabei sollen Ideen miteinander abgesprochen und miteinander verwirklicht werden. Mit vielen Anregungen und Tipps arbeitet jeder so gut wie er kann. | Info: 02739 802-434 | https://www.siwitermine.de/60957 
UID:siwitermine/60957/2025-01-07-2W  
CLASS:PUBLIC
DTSTART;TZID=Europe/Berlin:20250111T140000
DTEND;TZID=Europe/Berlin:20250111T140000
DTSTAMP:20250912T083220
END:VEVENT
END:VCALENDAR
